Workbook
Name genre: valeurs!$H$3:$H$4
Name type_prog: valeurs!$A$2:$A$25

Sheet Guide d'utilisation
A3: Utilisation du fichier de calcul des horaires prévisionnels
A5: Onglet inscrits
A6: Comporte la liste des participants, saisir ou récupérer la liste des participants auprès du club organisateur
A7: Veiller à bien définir les catégories en fonction du règlement de la saison en cours.
A9: Onglet groupes
A10: Cet onglet comporte un tableau croisé dynamique permettant de calculer le nombre de participants par catérogie
A11: pour le mettre à jour, aller dans le menu "tableau croisé dynamique" et choisissez la commande "modifier la source de données"
A19: Enfin, dans le menu "tableau croisé dynamique" chosissez la commande "Actualiser tout"
A27: Onglet samedi et dimanche
A28: Ces onglets comportent des formules de calcul. Pour le remplir, il vous suffit :
A29: Saisir dans la cellule I5 l'heure du début de la journée
A30: Sasir dans les lignes suivantes :
... A39: Eventuellement, si les surfaçages et les pauses ont un temps différent, vous pouvez les modifier dans cet onglet. les calculs dans les onglets samedi et dimanche seront automatiquement modifés

Sheet inscrits
A2: Catégorie | B2: Genre | C2: Club | D2: Nom | E2: Prénom | F2: Numéro de Licence | G2: Date de naissance
A3: National Junior | B3: Couple | C3: Champigny Csg | D3: VAYANA HRISTOVA / AXEL AHMED | F3: 312001/24034
A4: National Junior | B4: Couple | C4: Champigny Csg | D4: NINON DAPOIGNY / CONNOR O'GRADY | F4: 198968/313733
A5: National Junior | B5: Femme | C5: Annecy Sports Glace | D5: LAGUERRE | E5: Lily-Rose | F5: 206399 | G5: 39617
A6: National Junior | B6: Femme | C6: Dunkerque Patinage | D6: WOLFF | E6: Louane | F6: 198567 | G6: 40003
A7: National Junior | B7: Femme | C7: Club De Patinage Artistique De Reims | D7: VOUILLON | E7: Berenice | F7: 27527 | G7: 39649
A8: National Junior | B8: Femme | C8: Club De Patinage Artistique De Reims | D8: BELOT | E8: Ines | F8: 200856 | G8: 39034
A9: National Junior | B9: Femme | C9: Dammarie Csg | D9: MONTIEL | E9: Audrey | F9: 215422 | G9: 39787
A10: National Junior | B10: Femme | C10: Valence Patinage Artistique | D10: GHEBBARI | E10: Kirsten | F10: 134316 | G10: 39383
A11: National Junior | B11: Femme | C11: Cergy Pontoise Csg | D11: BENTARA | E11: Iliana | F11: 208425 | G11: 39951
A12: National Junior | B12: Femme | C12: Nantes Sports Glace | D12: THOMAS LEDREN | E12: Lena | F12: 93683 | G12: 39366
A13: National Junior | B13: Femme | C13: Champigny Csg | D13: HEURTEBIS | E13: Anne-Sophie | F13: 254296 | G13: 40784
A14: National Junior | B14: Femme | C14: Cergy Pontoise Csg | D14: BENAMAR | E14: Selma | F14: 208435 | G14: 40677
A15: National Junior | B15: Femme | C15: Charleville Mezieres Sg | D15: PROUX | E15: Melina | F15: 24866 | G15: 39605
A16: National Junior | B16: Femme | C16: Dammarie Csg | D16: RAKOTOZAFY | E16: Sarah | F16: 197396 | G16: 39697
... A104: National Senior | B104: Homme | C104: Espar | D104: BARADEL | E104: Theo | F104: 56391 | G104: 38384

Sheet groupes
A3: Nombre de Nom | B3: Étiquettes de colonnes
A4: Étiquettes de lignes | B4: Couple | C4: Femme | D4: Homme | E4: Total général
A5: National Junior | B5: 2 | C5: 24 | D5: 7 | E5: 33
A6: National Minime | C6: 16 | D6: 8 | E6: 24
A7: National Novice | C7: 26 | D7: 11 | E7: 37
A8: National Senior | C8: 4 | D8: 4 | E8: 8
A9: Total général | B9: 2 | C9: 70 | D9: 30 | E9: 102

Sheet samedi
B1: Nom Compétition
B2: Club Organisateur
A3: Entrer la date
A5: Catégories | B5: type de programme | C5: nb patineurs | D5: echauffement | E5: présentation | F5: programme | G5: jugement | H5: total | I5: début | J5: fin
A6: Novice Dames PC (26) | D6: =IF(B6<>"",VLOOKUP(B6,valeurs!$A$2:$E$25,3,FALSE),"") | E6: =IF(B6<>"",VLOOKUP(B6,valeurs!$A$2:$E$25,2,FALSE),"") | F6: =IF(B6<>"",VLOOKUP(B6,valeurs!$A$2:$E$25,4,FALSE),"") | G6: =IF(B6<>"",C6*VLOOKUP(B6,valeurs!$A$2:$E$25,5,FALSE),"") | H6: =IF(C6<>"",SUM(D6,(E6*C6),(F6*C6),G6),0) -> 0
A7: groupe 1 (6) | B7: Advanced novice PC | C7: 6 | D7: =IF(B7<>"",VLOOKUP(B7,valeurs!$A$2:$E$25,3,FALSE),"") -> 0.0027777778 | E7: =IF(B7<>"",VLOOKUP(B7,valeurs!$A$2:$E$25,2,FALSE),"") -> 0.00034722222 | F7: =IF(B7<>"",VLOOKUP(B7,valeurs!$A$2:$E$25,4,FALSE),"") -> 0.0017361111 | G7: =IF(B7<>"",C7*VLOOKUP(B7,valeurs!$A$2:$E$25,5,FALSE),"") -> 0.010416667 | H7: =IF(B7<>"",SUM(D7,(E7*C7),(F7*C7),G7),0) -> 0.025694444 | I7: 0.3125 | J7: =IF(H7<>"",I7+H7,"") -> 0.33819444
A8: groupe 2 (6) | B8: Advanced novice PC | C8: 6 | D8: =IF(B8<>"",VLOOKUP(B8,valeurs!$A$2:$E$25,3,FALSE),"") -> 0.0027777778 | E8: =IF(B8<>"",VLOOKUP(B8,valeurs!$A$2:$E$25,2,FALSE),"") -> 0.00034722222 | F8: =IF(B8<>"",VLOOKUP(B8,valeurs!$A$2:$E$25,4,FALSE),"") -> 0.0017361111 | G8: =IF(B8<>"",C8*VLOOKUP(B8,valeurs!$A$2:$E$25,5,FALSE),"") -> 0.010416667 | H8: =IF(B8<>"",SUM(D8,(E8*C8),(F8*C8),G8),0) -> 0.025694444 | I8: =J7 -> 0.33819444 | J8: =IF(H8<>"",I8+H8,"") -> 0.36388889
A9: groupe 3 (7) | B9: Advanced novice PC | C9: 7 | D9: =IF(B9<>"",VLOOKUP(B9,valeurs!$A$2:$E$25,3,FALSE),"") -> 0.0027777778 | E9: =IF(B9<>"",VLOOKUP(B9,valeurs!$A$2:$E$25,2,FALSE),"") -> 0.00034722222 | F9: =IF(B9<>"",VLOOKUP(B9,valeurs!$A$2:$E$25,4,FALSE),"") -> 0.0017361111 | G9: =IF(B9<>"",C9*VLOOKUP(B9,valeurs!$A$2:$E$25,5,FALSE),"") -> 0.012152778 | H9: =IF(B9<>"",SUM(D9,(E9*C9),(F9*C9),G9),0) -> 0.029513889 | I9: =J8 -> 0.36388889 | J9: =IF(H9<>"",I9+H9,"") -> 0.39340278
A10: Surfaçage | B10: Surfaçage | D10: =IF(B10<>"",VLOOKUP(B10,valeurs!$A$2:$E$25,3,FALSE),"") -> 0.010416667 | E10: =IF(B10<>"",VLOOKUP(B10,valeurs!$A$2:$E$25,2,FALSE),"") -> 0 | F10: =IF(B10<>"",VLOOKUP(B10,valeurs!$A$2:$E$25,4,FALSE),"") -> 0 | G10: =IF(B10<>"",C10*VLOOKUP(B10,valeurs!$A$2:$E$25,5,FALSE),"") -> 0 | H10: =IF(B10<>"",SUM(D10,(E10*C10),(F10*C10),G10),0) -> 0.010416667 | I10: =J9 -> 0.39340278 | J10: =IF(H10<>"",I10+H10,"") -> 0.40381944
A11: Novice Dames PC (suite) | D11: =IF(B11<>"",VLOOKUP(B11,valeurs!$A$2:$E$25,3,FALSE),"") | E11: =IF(B11<>"",VLOOKUP(B11,valeurs!$A$2:$E$25,2,FALSE),"") | F11: =IF(B11<>"",VLOOKUP(B11,valeurs!$A$2:$E$25,4,FALSE),"") | G11: =IF(B11<>"",C11*VLOOKUP(B11,valeurs!$A$2:$E$25,5,FALSE),"") | H11: =IF(B11<>"",SUM(D11,(E11*C11),(F11*C11),G11),0) -> 0 | I11: =J10 -> 0.40381944 | J11: =IF(H11<>"",I11+H11,"") -> 0.40381944
A12: Groupe 4 (7) | B12: Advanced novice PC | C12: 7 | D12: =IF(B12<>"",VLOOKUP(B12,valeurs!$A$2:$E$25,3,FALSE),"") -> 0.0027777778 | E12: =IF(B12<>"",VLOOKUP(B12,valeurs!$A$2:$E$25,2,FALSE),"") -> 0.00034722222 | F12: =IF(B12<>"",VLOOKUP(B12,valeurs!$A$2:$E$25,4,FALSE),"") -> 0.0017361111 | G12: =IF(B12<>"",C12*VLOOKUP(B12,valeurs!$A$2:$E$25,5,FALSE),"") -> 0.012152778 | H12: =IF(B12<>"",SUM(D12,(E12*C12),(F12*C12),G12),0) -> 0.029513889 | I12: =J11 -> 0.40381944 | J12: =IF(H12<>"",I12+H12,"") -> 0.43333333
A13: Junior Messieurs PC (7) | D13: =IF(B13<>"",VLOOKUP(B13,valeurs!$A$2:$E$25,3,FALSE),"") | E13: =IF(B13<>"",VLOOKUP(B13,valeurs!$A$2:$E$25,2,FALSE),"") | F13: =IF(B13<>"",VLOOKUP(B13,valeurs!$A$2:$E$25,4,FALSE),"") | G13: =IF(B13<>"",C13*VLOOKUP(B13,valeurs!$A$2:$E$25,5,FALSE),"") | H13: =IF(B13<>"",SUM(D13,(E13*C13),(F13*C13),G13),0) -> 0 | I13: =J12 -> 0.43333333 | J13: =IF(H13<>"",I13+H13,"") -> 0.43333333
A14: groupe 1 (3) | B14: Junior PC | C14: 3 | D14: =IF(B14<>"",VLOOKUP(B14,valeurs!$A$2:$E$25,3,FALSE),"") -> 0.0041666667 | E14: =IF(B14<>"",VLOOKUP(B14,valeurs!$A$2:$E$25,2,FALSE),"") -> 0.00034722222 | F14: =IF(B14<>"",VLOOKUP(B14,valeurs!$A$2:$E$25,4,FALSE),"") -> 0.0019675926 | G14: =IF(B14<>"",C14*VLOOKUP(B14,valeurs!$A$2:$E$25,5,FALSE),"") -> 0.0052083333 | H14: =IF(B14<>"",SUM(D14,(E14*C14),(F14*C14),G14),0) -> 0.016319444 | I14: =J13 -> 0.43333333 | J14: =IF(H14<>"",I14+H14,"") -> 0.44965278
A15: groupe 2 (4) | B15: Junior PC | C15: 4 | D15: =IF(B15<>"",VLOOKUP(B15,valeurs!$A$2:$E$25,3,FALSE),"") -> 0.0041666667 | E15: =IF(B15<>"",VLOOKUP(B15,valeurs!$A$2:$E$25,2,FALSE),"") -> 0.00034722222 | F15: =IF(B15<>"",VLOOKUP(B15,valeurs!$A$2:$E$25,4,FALSE),"") -> 0.0019675926 | G15: =IF(B15<>"",C15*VLOOKUP(B15,valeurs!$A$2:$E$25,5,FALSE),"") -> 0.0069444444 | H15: =IF(B15<>"",SUM(D15,(E15*C15),(F15*C15),G15),0) -> 0.02037037 | I15: =J14 -> 0.44965278 | J15: =IF(H15<>"",I15+H15,"") -> 0.47002315
A16: Surfaçage | B16: Surfaçage | D16: =IF(B16<>"",VLOOKUP(B16,valeurs!$A$2:$E$25,3,FALSE),"") -> 0.010416667 | E16: =IF(B16<>"",VLOOKUP(B16,valeurs!$A$2:$E$25,2,FALSE),"") -> 0 | F16: =IF(B16<>"",VLOOKUP(B16,valeurs!$A$2:$E$25,4,FALSE),"") -> 0 | G16: =IF(B16<>"",C16*VLOOKUP(B16,valeurs!$A$2:$E$25,5,FALSE),"") -> 0 | H16: =IF(B16<>"",SUM(D16,(E16*C16),(F16*C16),G16),0) -> 0.010416667 | I16: =J15 -> 0.47002315 | J16: =IF(H16<>"",I16+H16,"") -> 0.48043981
A17: Junior dames PC (24) | D17: =IF(B17<>"",VLOOKUP(B17,valeurs!$A$2:$E$25,3,FALSE),"") | E17: =IF(B17<>"",VLOOKUP(B17,valeurs!$A$2:$E$25,2,FALSE),"") | F17: =IF(B17<>"",VLOOKUP(B17,valeurs!$A$2:$E$25,4,FALSE),"") | G17: =IF(B17<>"",C17*VLOOKUP(B17,valeurs!$A$2:$E$25,5,FALSE),"") | H17: =IF(B17<>"",SUM(D17,(E17*C17),(F17*C17),G17),0) -> 0 | I17: =J16 -> 0.48043981 | J17: =IF(H17<>"",I17+H17,"") -> 0.48043981
A18: groupe 1 (6) | B18: Junior PC | C18: 6 | D18: =IF(B18<>"",VLOOKUP(B18,valeurs!$A$2:$E$25,3,FALSE),"") -> 0.0041666667 | E18: =IF(B18<>"",VLOOKUP(B18,valeurs!$A$2:$E$25,2,FALSE),"") -> 0.00034722222 | F18: =IF(B18<>"",VLOOKUP(B18,valeurs!$A$2:$E$25,4,FALSE),"") -> 0.0019675926 | G18: =IF(B18<>"",C18*VLOOKUP(B18,valeurs!$A$2:$E$25,5,FALSE),"") -> 0.010416667 | H18: =IF(B18<>"",SUM(D18,(E18*C18),(F18*C18),G18),0) -> 0.028472222 | I18: =J17 -> 0.48043981 | J18: =IF(H18<>"",I18+H18,"") -> 0.50891204
A19: groupe 2 (6) | B19: Junior PC | C19: 6 | D19: =IF(B19<>"",VLOOKUP(B19,valeurs!$A$2:$E$25,3,FALSE),"") -> 0.0041666667 | E19: =IF(B19<>"",VLOOKUP(B19,valeurs!$A$2:$E$25,2,FALSE),"") -> 0.00034722222 | F19: =IF(B19<>"",VLOOKUP(B19,valeurs!$A$2:$E$25,4,FALSE),"") -> 0.0019675926 | G19: =IF(B19<>"",C19*VLOOKUP(B19,valeurs!$A$2:$E$25,5,FALSE),"") -> 0.010416667 | H19: =IF(B19<>"",SUM(D19,(E19*C19),(F19*C19),G19),0) -> 0.028472222 | I19: =J18 -> 0.50891204 | J19: =IF(H19<>"",I19+H19,"") -> 0.53738426
A20: groupe 3 (6) | B20: Junior PC | C20: 6 | D20: =IF(B20<>"",VLOOKUP(B20,valeurs!$A$2:$E$25,3,FALSE),"") -> 0.0041666667 | E20: =IF(B20<>"",VLOOKUP(B20,valeurs!$A$2:$E$25,2,FALSE),"") -> 0.00034722222 | F20: =IF(B20<>"",VLOOKUP(B20,valeurs!$A$2:$E$25,4,FALSE),"") -> 0.0019675926 | G20: =IF(B20<>"",C20*VLOOKUP(B20,valeurs!$A$2:$E$25,5,FALSE),"") -> 0.010416667 | H20: =IF(B20<>"",SUM(D20,(E20*C20),(F20*C20),G20),0) -> 0.028472222 | I20: =J19 -> 0.53738426 | J20: =IF(H20<>"",I20+H20,"") -> 0.56585648
A21: Surfaçage | B21: Surfaçage | D21: =IF(B21<>"",VLOOKUP(B21,valeurs!$A$2:$E$25,3,FALSE),"") -> 0.010416667 | E21: =IF(B21<>"",VLOOKUP(B21,valeurs!$A$2:$E$25,2,FALSE),"") -> 0 | F21: =IF(B21<>"",VLOOKUP(B21,valeurs!$A$2:$E$25,4,FALSE),"") -> 0 | G21: =IF(B21<>"",C21*VLOOKUP(B21,valeurs!$A$2:$E$25,5,FALSE),"") -> 0 | H21: =IF(B21<>"",SUM(D21,(E21*C21),(F21*C21),G21),0) -> 0.010416667 | I21: =J20 -> 0.56585648 | J21: =IF(H21<>"",I21+H21,"") -> 0.57627315
A22: Junior dames PC (suite) | D22: =IF(B22<>"",VLOOKUP(B22,valeurs!$A$2:$E$25,3,FALSE),"") | E22: =IF(B22<>"",VLOOKUP(B22,valeurs!$A$2:$E$25,2,FALSE),"") | F22: =IF(B22<>"",VLOOKUP(B22,valeurs!$A$2:$E$25,4,FALSE),"") | G22: =IF(B22<>"",C22*VLOOKUP(B22,valeurs!$A$2:$E$25,5,FALSE),"") | H22: =IF(B22<>"",SUM(D22,(E22*C22),(F22*C22),G22),0) -> 0 | I22: =J21 -> 0.57627315 | J22: =IF(H22<>"",I22+H22,"") -> 0.57627315
A23: groupe 4 (6) | B23: Junior PC | C23: 6 | D23: =IF(B23<>"",VLOOKUP(B23,valeurs!$A$2:$E$25,3,FALSE),"") -> 0.0041666667 | E23: =IF(B23<>"",VLOOKUP(B23,valeurs!$A$2:$E$25,2,FALSE),"") -> 0.00034722222 | F23: =IF(B23<>"",VLOOKUP(B23,valeurs!$A$2:$E$25,4,FALSE),"") -> 0.0019675926 | G23: =IF(B23<>"",C23*VLOOKUP(B23,valeurs!$A$2:$E$25,5,FALSE),"") -> 0.010416667 | H23: =IF(B23<>"",SUM(D23,(E23*C23),(F23*C23),G23),0) -> 0.028472222 | I23: =J22 -> 0.57627315 | J23: =IF(H23<>"",I23+H23,"") -> 0.60474537
A24: Novice Messieurs PC (11) | D24: =IF(B24<>"",VLOOKUP(B24,valeurs!$A$2:$E$25,3,FALSE),"") | E24: =IF(B24<>"",VLOOKUP(B24,valeurs!$A$2:$E$25,2,FALSE),"") | F24: =IF(B24<>"",VLOOKUP(B24,valeurs!$A$2:$E$25,4,FALSE),"") | G24: =IF(B24<>"",C24*VLOOKUP(B24,valeurs!$A$2:$E$25,5,FALSE),"") | H24: =IF(B24<>"",SUM(D24,(E24*C24),(F24*C24),G24),0) -> 0 | I24: =J23 -> 0.60474537 | J24: =IF(H24<>"",I24+H24,"") -> 0.60474537
A25: groupe 1 (5) | B25: Advanced novice PC | C25: 5 | D25: =IF(B25<>"",VLOOKUP(B25,valeurs!$A$2:$E$25,3,FALSE),"") -> 0.0027777778 | E25: =IF(B25<>"",VLOOKUP(B25,valeurs!$A$2:$E$25,2,FALSE),"") -> 0.00034722222 | F25: =IF(B25<>"",VLOOKUP(B25,valeurs!$A$2:$E$25,4,FALSE),"") -> 0.0017361111 | G25: =IF(B25<>"",C25*VLOOKUP(B25,valeurs!$A$2:$E$25,5,FALSE),"") -> 0.0086805556 | H25: =IF(B25<>"",SUM(D25,(E25*C25),(F25*C25),G25),0) -> 0.021875 | I25: =J24 -> 0.60474537 | J25: =IF(H25<>"",I25+H25,"") -> 0.62662037
A26: groupe 2 (6) | B26: Advanced novice PC | C26: 6 | D26: =IF(B26<>"",VLOOKUP(B26,valeurs!$A$2:$E$25,3,FALSE),"") -> 0.0027777778 | E26: =IF(B26<>"",VLOOKUP(B26,valeurs!$A$2:$E$25,2,FALSE),"") -> 0.00034722222 | F26: =IF(B26<>"",VLOOKUP(B26,valeurs!$A$2:$E$25,4,FALSE),"") -> 0.0017361111 | G26: =IF(B26<>"",C26*VLOOKUP(B26,valeurs!$A$2:$E$25,5,FALSE),"") -> 0.010416667 | H26: =IF(B26<>"",SUM(D26,(E26*C26),(F26*C26),G26),0) -> 0.025694444 | I26: =J25 -> 0.62662037 | J26: =IF(H26<>"",I26+H26,"") -> 0.65231481
A27: Surfaçage | B27: Surfaçage | D27: =IF(B27<>"",VLOOKUP(B27,valeurs!$A$2:$E$25,3,FALSE),"") -> 0.010416667 | E27: =IF(B27<>"",VLOOKUP(B27,valeurs!$A$2:$E$25,2,FALSE),"") -> 0 | F27: =IF(B27<>"",VLOOKUP(B27,valeurs!$A$2:$E$25,4,FALSE),"") -> 0 | G27: =IF(B27<>"",C27*VLOOKUP(B27,valeurs!$A$2:$E$25,5,FALSE),"") -> 0 | H27: =IF(B27<>"",SUM(D27,(E27*C27),(F27*C27),G27),0) -> 0.010416667 | I27: =J26 -> 0.65231481 | J27: =IF(H27<>"",I27+H27,"") -> 0.66273148
A28: Junior Couple PC (2) | D28: =IF(B28<>"",VLOOKUP(B28,valeurs!$A$2:$E$25,3,FALSE),"") | E28: =IF(B28<>"",VLOOKUP(B28,valeurs!$A$2:$E$25,2,FALSE),"") | F28: =IF(B28<>"",VLOOKUP(B28,valeurs!$A$2:$E$25,4,FALSE),"") | G28: =IF(B28<>"",C28*VLOOKUP(B28,valeurs!$A$2:$E$25,5,FALSE),"") | H28: =IF(B28<>"",SUM(D28,(E28*C28),(F28*C28),G28),0) -> 0 | I28: =J27 -> 0.66273148 | J28: =IF(H28<>"",I28+H28,"") -> 0.66273148
A29: groupe 1 (2) | B29: Junior PC | C29: 2 | D29: =IF(B29<>"",VLOOKUP(B29,valeurs!$A$2:$E$25,3,FALSE),"") -> 0.0041666667 | E29: =IF(B29<>"",VLOOKUP(B29,valeurs!$A$2:$E$25,2,FALSE),"") -> 0.00034722222 | F29: =IF(B29<>"",VLOOKUP(B29,valeurs!$A$2:$E$25,4,FALSE),"") -> 0.0019675926 | G29: =IF(B29<>"",C29*VLOOKUP(B29,valeurs!$A$2:$E$25,5,FALSE),"") -> 0.0034722222 | H29: =IF(B29<>"",SUM(D29,(E29*C29),(F29*C29),G29),0) -> 0.012268519 | I29: =J28 -> 0.66273148 | J29: =IF(H29<>"",I29+H29,"") -> 0.675
A30: Senior Messieurs PC (4) | D30: =IF(B30<>"",VLOOKUP(B30,valeurs!$A$2:$E$25,3,FALSE),"") | E30: =IF(B30<>"",VLOOKUP(B30,valeurs!$A$2:$E$25,2,FALSE),"") | F30: =IF(B30<>"",VLOOKUP(B30,valeurs!$A$2:$E$25,4,FALSE),"") | G30: =IF(B30<>"",C30*VLOOKUP(B30,valeurs!$A$2:$E$25,5,FALSE),"") | H30: =IF(B30<>"",SUM(D30,(E30*C30),(F30*C30),G30),0) -> 0 | I30: =J29 -> 0.675 | J30: =IF(H30<>"",I30+H30,"") -> 0.675
A31: groupe 1 (4) | B31: Senior PC | C31: 4 | D31: =IF(B31<>"",VLOOKUP(B31,valeurs!$A$2:$E$25,3,FALSE),"") -> 0.0041666667 | E31: =IF(B31<>"",VLOOKUP(B31,valeurs!$A$2:$E$25,2,FALSE),"") -> 0.00034722222 | F31: =IF(B31<>"",VLOOKUP(B31,valeurs!$A$2:$E$25,4,FALSE),"") -> 0.0019675926 | G31: =IF(B31<>"",C31*VLOOKUP(B31,valeurs!$A$2:$E$25,5,FALSE),"") -> 0.0069444444 | H31: =IF(B31<>"",SUM(D31,(E31*C31),(F31*C31),G31),0) -> 0.02037037 | I31: =J30 -> 0.675 | J31: =IF(H31<>"",I31+H31,"") -> 0.69537037
A32: Minimes Dames PL (16) | D32: =IF(B32<>"",VLOOKUP(B32,valeurs!$A$2:$E$25,3,FALSE),"") | E32: =IF(B32<>"",VLOOKUP(B32,valeurs!$A$2:$E$25,2,FALSE),"") | F32: =IF(B32<>"",VLOOKUP(B32,valeurs!$A$2:$E$25,4,FALSE),"") | G32: =IF(B32<>"",C32*VLOOKUP(B32,valeurs!$A$2:$E$25,5,FALSE),"") | H32: =IF(B32<>"",SUM(D32,(E32*C32),(F32*C32),G32),0) -> 0 | I32: =J31 -> 0.69537037 | J32: =IF(H32<>"",I32+H32,"") -> 0.69537037
A33: Groupe 1 (8) | B33: Advanced novice PL | C33: 8 | D33: =IF(B33<>"",VLOOKUP(B33,valeurs!$A$2:$E$25,3,FALSE),"") -> 0.0034722222 | E33: =IF(B33<>"",VLOOKUP(B33,valeurs!$A$2:$E$25,2,FALSE),"") -> 0.00034722222 | F33: =IF(B33<>"",VLOOKUP(B33,valeurs!$A$2:$E$25,4,FALSE),"") -> 0.0020833333 | G33: =IF(B33<>"",C33*VLOOKUP(B33,valeurs!$A$2:$E$25,5,FALSE),"") -> 0.013888889 | H33: =IF(B33<>"",SUM(D33,(E33*C33),(F33*C33),G33),0) -> 0.036805556 | I33: =J32 -> 0.69537037 | J33: =IF(H33<>"",I33+H33,"") -> 0.73217593
A34: groupe 2 (8) | B34: Advanced novice PL | C34: 8 | D34: =IF(B34<>"",VLOOKUP(B34,valeurs!$A$2:$E$25,3,FALSE),"") -> 0.0034722222 | E34: =IF(B34<>"",VLOOKUP(B34,valeurs!$A$2:$E$25,2,FALSE),"") -> 0.00034722222 | F34: =IF(B34<>"",VLOOKUP(B34,valeurs!$A$2:$E$25,4,FALSE),"") -> 0.0020833333 | G34: =IF(B34<>"",C34*VLOOKUP(B34,valeurs!$A$2:$E$25,5,FALSE),"") -> 0.013888889 | H34: =IF(B34<>"",SUM(D34,(E34*C34),(F34*C34),G34),0) -> 0.036805556 | I34: =J33 -> 0.73217593 | J34: =IF(H34<>"",I34+H34,"") -> 0.76898148
A35: Surfaçage | B35: Surfaçage | D35: =IF(B35<>"",VLOOKUP(B35,valeurs!$A$2:$E$25,3,FALSE),"") -> 0.010416667 | E35: =IF(B35<>"",VLOOKUP(B35,valeurs!$A$2:$E$25,2,FALSE),"") -> 0 | F35: =IF(B35<>"",VLOOKUP(B35,valeurs!$A$2:$E$25,4,FALSE),"") -> 0 | G35: =IF(B35<>"",C35*VLOOKUP(B35,valeurs!$A$2:$E$25,5,FALSE),"") -> 0 | H35: =IF(B35<>"",SUM(D35,(E35*C35),(F35*C35),G35),0) -> 0.010416667 | I35: =J34 -> 0.76898148 | J35: =IF(H35<>"",I35+H35,"") -> 0.77939815
A36: Senior Dames PC (4) | D36: =IF(B36<>"",VLOOKUP(B36,valeurs!$A$2:$E$25,3,FALSE),"") | E36: =IF(B36<>"",VLOOKUP(B36,valeurs!$A$2:$E$25,2,FALSE),"") | F36: =IF(B36<>"",VLOOKUP(B36,valeurs!$A$2:$E$25,4,FALSE),"") | G36: =IF(B36<>"",C36*VLOOKUP(B36,valeurs!$A$2:$E$25,5,FALSE),"") | H36: =IF(B36<>"",SUM(D36,(E36*C36),(F36*C36),G36),0) -> 0 | I36: =J35 -> 0.77939815 | J36: =IF(H36<>"",I36+H36,"") -> 0.77939815
A37: groupe 1 (4) | B37: Senior PC | C37: 4 | D37: =IF(B37<>"",VLOOKUP(B37,valeurs!$A$2:$E$25,3,FALSE),"") -> 0.0041666667 | E37: =IF(B37<>"",VLOOKUP(B37,valeurs!$A$2:$E$25,2,FALSE),"") -> 0.00034722222 | F37: =IF(B37<>"",VLOOKUP(B37,valeurs!$A$2:$E$25,4,FALSE),"") -> 0.0019675926 | G37: =IF(B37<>"",C37*VLOOKUP(B37,valeurs!$A$2:$E$25,5,FALSE),"") -> 0.0069444444 | H37: =IF(B37<>"",SUM(D37,(E37*C37),(F37*C37),G37),0) -> 0.02037037 | I37: =J36 -> 0.77939815 | J37: =IF(H37<>"",I37+H37,"") -> 0.79976852
A38: Minimes Messieurs PL (8) | B38: Advanced novice PL | C38: 8 | D38: =IF(B38<>"",VLOOKUP(B38,valeurs!$A$2:$E$25,3,FALSE),"") -> 0.0034722222 | E38: =IF(B38<>"",VLOOKUP(B38,valeurs!$A$2:$E$25,2,FALSE),"") -> 0.00034722222 | F38: =IF(B38<>"",VLOOKUP(B38,valeurs!$A$2:$E$25,4,FALSE),"") -> 0.0020833333 | G38: =IF(B38<>"",C38*VLOOKUP(B38,valeurs!$A$2:$E$25,5,FALSE),"") -> 0.013888889 | H38: =IF(B38<>"",SUM(D38,(E38*C38),(F38*C38),G38),0) -> 0.036805556 | I38: =J37 -> 0.79976852 | J38: =IF(H38<>"",I38+H38,"") -> 0.83657407
A39: groupe 1 (8) | D39: =IF(B39<>"",VLOOKUP(B39,valeurs!$A$2:$E$25,3,FALSE),"") | E39: =IF(B39<>"",VLOOKUP(B39,valeurs!$A$2:$E$25,2,FALSE),"") | F39: =IF(B39<>"",VLOOKUP(B39,valeurs!$A$2:$E$25,4,FALSE),"") | G39: =IF(B39<>"",C39*VLOOKUP(B39,valeurs!$A$2:$E$25,5,FALSE),"") | H39: =IF(B39<>"",SUM(D39,(E39*C39),(F39*C39),G39),0) -> 0 | I39: =J38 -> 0.83657407 | J39: =IF(H39<>"",I39+H39,"") -> 0.83657407
D40: =IF(B40<>"",VLOOKUP(B40,valeurs!$A$2:$E$25,3,FALSE),"") | E40: =IF(B40<>"",VLOOKUP(B40,valeurs!$A$2:$E$25,2,FALSE),"") | F40: =IF(B40<>"",VLOOKUP(B40,valeurs!$A$2:$E$25,4,FALSE),"") | G40: =IF(B40<>"",C40*VLOOKUP(B40,valeurs!$A$2:$E$25,5,FALSE),"") | H40: =IF(B40<>"",SUM(D40,(E40*C40),(F40*C40),G40),0) -> 0 | I40: =J39 -> 0.83657407 | J40: =IF(H40<>"",I40+H40,"") -> 0.83657407
A41: Fin de la première journée | D41: =IF(C41<>"",VLOOKUP(B41,valeurs!$A$2:$D$20,2),"") | F41: =IF(C41<>"",VLOOKUP(B41,valeurs!$A$2:$D$20,3),"") | I41: =J40 -> 0.83657407 | J41: =IF(C41<>"",I41+H41,"")
...

Sheet Dimanche
B1: =[1]Samedi!B1 -> Nom Compétition
B2: =[1]Samedi!B2 -> Club Organisateur
A3: Entrer la date
A5: Catégories | B5: type de programme | C5: nb patineurs | D5: echauffement | E5: présentation | F5: programme | G5: jugement | H5: total | I5: début | J5: fin
A6: Junior dames PL (24) | D6: =IF(B6<>"",VLOOKUP(B6,valeurs!$A$2:$E$25,3,FALSE),"") | E6: =IF(B6<>"",VLOOKUP(B6,valeurs!$A$2:$E$25,2,FALSE),"") | F6: =IF(B6<>"",VLOOKUP(B6,valeurs!$A$2:$E$25,4,FALSE),"") | G6: =IF(B6<>"",C6*VLOOKUP(B6,valeurs!$A$2:$E$25,5,FALSE),"") | H6: =IF(C6<>"",SUM(D6,(E6*C6),(F6*C6),G6),0) -> 0
A7: groupe 1 (6) | B7: Junior PL | C7: 6 | D7: =IF(B7<>"",VLOOKUP(B7,valeurs!$A$2:$E$25,3,FALSE),"") -> 0.0041666667 | E7: =IF(B7<>"",VLOOKUP(B7,valeurs!$A$2:$E$25,2,FALSE),"") -> 0.00034722222 | F7: =IF(B7<>"",VLOOKUP(B7,valeurs!$A$2:$E$25,4,FALSE),"") -> 0.0024305556 | G7: =IF(B7<>"",C7*VLOOKUP(B7,valeurs!$A$2:$E$25,5,FALSE),"") -> 0.0125 | H7: =IF(B7<>"",SUM(D7,(E7*C7),(F7*C7),G7),0) -> 0.033333333 | I7: 0.29166667 | J7: =IF(H7<>"",I7+H7,"") -> 0.325
A8: groupe 2 (6) | B8: Junior PL | C8: 6 | D8: =IF(B8<>"",VLOOKUP(B8,valeurs!$A$2:$E$25,3,FALSE),"") -> 0.0041666667 | E8: =IF(B8<>"",VLOOKUP(B8,valeurs!$A$2:$E$25,2,FALSE),"") -> 0.00034722222 | F8: =IF(B8<>"",VLOOKUP(B8,valeurs!$A$2:$E$25,4,FALSE),"") -> 0.0024305556 | G8: =IF(B8<>"",C8*VLOOKUP(B8,valeurs!$A$2:$E$25,5,FALSE),"") -> 0.0125 | H8: =IF(B8<>"",SUM(D8,(E8*C8),(F8*C8),G8),0) -> 0.033333333 | I8: =J7 -> 0.325 | J8: =IF(H8<>"",I8+H8,"") -> 0.35833333
A9: groupe 3 (6) | B9: Junior PL | C9: 6 | D9: =IF(B9<>"",VLOOKUP(B9,valeurs!$A$2:$E$25,3,FALSE),"") -> 0.0041666667 | E9: =IF(B9<>"",VLOOKUP(B9,valeurs!$A$2:$E$25,2,FALSE),"") -> 0.00034722222 | F9: =IF(B9<>"",VLOOKUP(B9,valeurs!$A$2:$E$25,4,FALSE),"") -> 0.0024305556 | G9: =IF(B9<>"",C9*VLOOKUP(B9,valeurs!$A$2:$E$25,5,FALSE),"") -> 0.0125 | H9: =IF(B9<>"",SUM(D9,(E9*C9),(F9*C9),G9),0) -> 0.033333333 | I9: =J8 -> 0.35833333 | J9: =IF(H9<>"",I9+H9,"") -> 0.39166667
A10: Surfaçage | B10: Surfaçage | D10: =IF(B10<>"",VLOOKUP(B10,valeurs!$A$2:$E$25,3,FALSE),"") -> 0.010416667 | E10: =IF(B10<>"",VLOOKUP(B10,valeurs!$A$2:$E$25,2,FALSE),"") -> 0 | F10: =IF(B10<>"",VLOOKUP(B10,valeurs!$A$2:$E$25,4,FALSE),"") -> 0 | G10: =IF(B10<>"",C10*VLOOKUP(B10,valeurs!$A$2:$E$25,5,FALSE),"") -> 0 | H10: =IF(B10<>"",SUM(D10,(E10*C10),(F10*C10),G10),0) -> 0.010416667 | I10: =J9 -> 0.39166667 | J10: =IF(H10<>"",I10+H10,"") -> 0.40208333
A11: Junior dames PL (suite) | D11: =IF(B11<>"",VLOOKUP(B11,valeurs!$A$2:$E$25,3,FALSE),"") | E11: =IF(B11<>"",VLOOKUP(B11,valeurs!$A$2:$E$25,2,FALSE),"") | F11: =IF(B11<>"",VLOOKUP(B11,valeurs!$A$2:$E$25,4,FALSE),"") | G11: =IF(B11<>"",C11*VLOOKUP(B11,valeurs!$A$2:$E$25,5,FALSE),"") | H11: =IF(B11<>"",SUM(D11,(E11*C11),(F11*C11),G11),0) -> 0 | I11: =J10 -> 0.40208333 | J11: =IF(H11<>"",I11+H11,"") -> 0.40208333
A12: groupe 4 (6) | B12: Junior PL | C12: 6 | D12: =IF(B12<>"",VLOOKUP(B12,valeurs!$A$2:$E$25,3,FALSE),"") -> 0.0041666667 | E12: =IF(B12<>"",VLOOKUP(B12,valeurs!$A$2:$E$25,2,FALSE),"") -> 0.00034722222 | F12: =IF(B12<>"",VLOOKUP(B12,valeurs!$A$2:$E$25,4,FALSE),"") -> 0.0024305556 | G12: =IF(B12<>"",C12*VLOOKUP(B12,valeurs!$A$2:$E$25,5,FALSE),"") -> 0.0125 | H12: =IF(B12<>"",SUM(D12,(E12*C12),(F12*C12),G12),0) -> 0.033333333 | I12: =J11 -> 0.40208333 | J12: =IF(H12<>"",I12+H12,"") -> 0.43541667
A13: Novice Dames PL (26) | D13: =IF(B13<>"",VLOOKUP(B13,valeurs!$A$2:$E$25,3,FALSE),"") | E13: =IF(B13<>"",VLOOKUP(B13,valeurs!$A$2:$E$25,2,FALSE),"") | F13: =IF(B13<>"",VLOOKUP(B13,valeurs!$A$2:$E$25,4,FALSE),"") | G13: =IF(B13<>"",C13*VLOOKUP(B13,valeurs!$A$2:$E$25,5,FALSE),"") | H13: =IF(B13<>"",SUM(D13,(E13*C13),(F13*C13),G13),0) -> 0 | I13: =J12 -> 0.43541667 | J13: =IF(H13<>"",I13+H13,"") -> 0.43541667
A14: groupe 1 (6) | B14: Advanced novice PL | C14: 6 | D14: =IF(B14<>"",VLOOKUP(B14,valeurs!$A$2:$E$25,3,FALSE),"") -> 0.0034722222 | E14: =IF(B14<>"",VLOOKUP(B14,valeurs!$A$2:$E$25,2,FALSE),"") -> 0.00034722222 | F14: =IF(B14<>"",VLOOKUP(B14,valeurs!$A$2:$E$25,4,FALSE),"") -> 0.0020833333 | G14: =IF(B14<>"",C14*VLOOKUP(B14,valeurs!$A$2:$E$25,5,FALSE),"") -> 0.010416667 | H14: =IF(B14<>"",SUM(D14,(E14*C14),(F14*C14),G14),0) -> 0.028472222 | I14: =J13 -> 0.43541667 | J14: =IF(H14<>"",I14+H14,"") -> 0.46388889
A15: groupe 2 (6) | B15: Advanced novice PL | C15: 6 | D15: =IF(B15<>"",VLOOKUP(B15,valeurs!$A$2:$E$25,3,FALSE),"") -> 0.0034722222 | E15: =IF(B15<>"",VLOOKUP(B15,valeurs!$A$2:$E$25,2,FALSE),"") -> 0.00034722222 | F15: =IF(B15<>"",VLOOKUP(B15,valeurs!$A$2:$E$25,4,FALSE),"") -> 0.0020833333 | G15: =IF(B15<>"",C15*VLOOKUP(B15,valeurs!$A$2:$E$25,5,FALSE),"") -> 0.010416667 | H15: =IF(B15<>"",SUM(D15,(E15*C15),(F15*C15),G15),0) -> 0.028472222 | I15: =J14 -> 0.46388889 | J15: =IF(H15<>"",I15+H15,"") -> 0.49236111
A16: Surfaçage | B16: Surfaçage | D16: =IF(B16<>"",VLOOKUP(B16,valeurs!$A$2:$E$25,3,FALSE),"") -> 0.010416667 | E16: =IF(B16<>"",VLOOKUP(B16,valeurs!$A$2:$E$25,2,FALSE),"") -> 0 | F16: =IF(B16<>"",VLOOKUP(B16,valeurs!$A$2:$E$25,4,FALSE),"") -> 0 | G16: =IF(B16<>"",C16*VLOOKUP(B16,valeurs!$A$2:$E$25,5,FALSE),"") -> 0 | H16: =IF(B16<>"",SUM(D16,(E16*C16),(F16*C16),G16),0) -> 0.010416667 | I16: =J15 -> 0.49236111 | J16: =IF(H16<>"",I16+H16,"") -> 0.50277778
A17: Novice Dames PL (suite) | D17: =IF(B17<>"",VLOOKUP(B17,valeurs!$A$2:$E$25,3,FALSE),"") | E17: =IF(B17<>"",VLOOKUP(B17,valeurs!$A$2:$E$25,2,FALSE),"") | F17: =IF(B17<>"",VLOOKUP(B17,valeurs!$A$2:$E$25,4,FALSE),"") | G17: =IF(B17<>"",C17*VLOOKUP(B17,valeurs!$A$2:$E$25,5,FALSE),"") | H17: =IF(B17<>"",SUM(D17,(E17*C17),(F17*C17),G17),0) -> 0 | I17: =J16 -> 0.50277778 | J17: =IF(H17<>"",I17+H17,"") -> 0.50277778
A18: groupe 3 (7) | B18: Advanced novice PL | C18: 7 | D18: =IF(B18<>"",VLOOKUP(B18,valeurs!$A$2:$E$25,3,FALSE),"") -> 0.0034722222 | E18: =IF(B18<>"",VLOOKUP(B18,valeurs!$A$2:$E$25,2,FALSE),"") -> 0.00034722222 | F18: =IF(B18<>"",VLOOKUP(B18,valeurs!$A$2:$E$25,4,FALSE),"") -> 0.0020833333 | G18: =IF(B18<>"",C18*VLOOKUP(B18,valeurs!$A$2:$E$25,5,FALSE),"") -> 0.012152778 | H18: =IF(B18<>"",SUM(D18,(E18*C18),(F18*C18),G18),0) -> 0.032638889 | I18: =J17 -> 0.50277778 | J18: =IF(H18<>"",I18+H18,"") -> 0.53541667
A19: groupe 4 (7) | B19: Advanced novice PL | C19: 7 | D19: =IF(B19<>"",VLOOKUP(B19,valeurs!$A$2:$E$25,3,FALSE),"") -> 0.0034722222 | E19: =IF(B19<>"",VLOOKUP(B19,valeurs!$A$2:$E$25,2,FALSE),"") -> 0.00034722222 | F19: =IF(B19<>"",VLOOKUP(B19,valeurs!$A$2:$E$25,4,FALSE),"") -> 0.0020833333 | G19: =IF(B19<>"",C19*VLOOKUP(B19,valeurs!$A$2:$E$25,5,FALSE),"") -> 0.012152778 | H19: =IF(B19<>"",SUM(D19,(E19*C19),(F19*C19),G19),0) -> 0.032638889 | I19: =J18 -> 0.53541667 | J19: =IF(H19<>"",I19+H19,"") -> 0.56805556
A20: Senior Dames PL (4) | D20: =IF(B20<>"",VLOOKUP(B20,valeurs!$A$2:$E$25,3,FALSE),"") | E20: =IF(B20<>"",VLOOKUP(B20,valeurs!$A$2:$E$25,2,FALSE),"") | F20: =IF(B20<>"",VLOOKUP(B20,valeurs!$A$2:$E$25,4,FALSE),"") | G20: =IF(B20<>"",C20*VLOOKUP(B20,valeurs!$A$2:$E$25,5,FALSE),"") | H20: =IF(B20<>"",SUM(D20,(E20*C20),(F20*C20),G20),0) -> 0 | I20: =J19 -> 0.56805556 | J20: =IF(H20<>"",I20+H20,"") -> 0.56805556
A21: groupe 1 (4) | B21: Senior PL | C21: 4 | D21: =IF(B21<>"",VLOOKUP(B21,valeurs!$A$2:$E$25,3,FALSE),"") -> 0.0041666667 | E21: =IF(B21<>"",VLOOKUP(B21,valeurs!$A$2:$E$25,2,FALSE),"") -> 0.00034722222 | F21: =IF(B21<>"",VLOOKUP(B21,valeurs!$A$2:$E$25,4,FALSE),"") -> 0.0027777778 | G21: =IF(B21<>"",C21*VLOOKUP(B21,valeurs!$A$2:$E$25,5,FALSE),"") -> 0.0083333333 | H21: =IF(B21<>"",SUM(D21,(E21*C21),(F21*C21),G21),0) -> 0.025 | I21: =J20 -> 0.56805556 | J21: =IF(H21<>"",I21+H21,"") -> 0.59305556
A22: Surfaçage | B22: Surfaçage | D22: =IF(B22<>"",VLOOKUP(B22,valeurs!$A$2:$E$25,3,FALSE),"") -> 0.010416667 | E22: =IF(B22<>"",VLOOKUP(B22,valeurs!$A$2:$E$25,2,FALSE),"") -> 0 | F22: =IF(B22<>"",VLOOKUP(B22,valeurs!$A$2:$E$25,4,FALSE),"") -> 0 | G22: =IF(B22<>"",C22*VLOOKUP(B22,valeurs!$A$2:$E$25,5,FALSE),"") -> 0 | H22: =IF(B22<>"",SUM(D22,(E22*C22),(F22*C22),G22),0) -> 0.010416667 | I22: =J21 -> 0.59305556 | J22: =IF(H22<>"",I22+H22,"") -> 0.60347222
A23: Novice Messieurs PL (11) | D23: =IF(B23<>"",VLOOKUP(B23,valeurs!$A$2:$E$25,3,FALSE),"") | E23: =IF(B23<>"",VLOOKUP(B23,valeurs!$A$2:$E$25,2,FALSE),"") | F23: =IF(B23<>"",VLOOKUP(B23,valeurs!$A$2:$E$25,4,FALSE),"") | G23: =IF(B23<>"",C23*VLOOKUP(B23,valeurs!$A$2:$E$25,5,FALSE),"") | H23: =IF(B23<>"",SUM(D23,(E23*C23),(F23*C23),G23),0) -> 0 | I23: =J22 -> 0.60347222 | J23: =IF(H23<>"",I23+H23,"") -> 0.60347222
A24: groupe 1 (5) | B24: Advanced novice PL | C24: 5 | D24: =IF(B24<>"",VLOOKUP(B24,valeurs!$A$2:$E$25,3,FALSE),"") -> 0.0034722222 | E24: =IF(B24<>"",VLOOKUP(B24,valeurs!$A$2:$E$25,2,FALSE),"") -> 0.00034722222 | F24: =IF(B24<>"",VLOOKUP(B24,valeurs!$A$2:$E$25,4,FALSE),"") -> 0.0020833333 | G24: =IF(B24<>"",C24*VLOOKUP(B24,valeurs!$A$2:$E$25,5,FALSE),"") -> 0.0086805556 | H24: =IF(B24<>"",SUM(D24,(E24*C24),(F24*C24),G24),0) -> 0.024305556 | I24: =J23 -> 0.60347222 | J24: =IF(H24<>"",I24+H24,"") -> 0.62777778
A25: groupe 2 (6) | B25: Advanced novice PL | C25: 6 | D25: =IF(B25<>"",VLOOKUP(B25,valeurs!$A$2:$E$25,3,FALSE),"") -> 0.0034722222 | E25: =IF(B25<>"",VLOOKUP(B25,valeurs!$A$2:$E$25,2,FALSE),"") -> 0.00034722222 | F25: =IF(B25<>"",VLOOKUP(B25,valeurs!$A$2:$E$25,4,FALSE),"") -> 0.0020833333 | G25: =IF(B25<>"",C25*VLOOKUP(B25,valeurs!$A$2:$E$25,5,FALSE),"") -> 0.010416667 | H25: =IF(B25<>"",SUM(D25,(E25*C25),(F25*C25),G25),0) -> 0.028472222 | I25: =J24 -> 0.62777778 | J25: =IF(H25<>"",I25+H25,"") -> 0.65625
A26: Senior Messieur PL (4) | D26: =IF(B26<>"",VLOOKUP(B26,valeurs!$A$2:$E$25,3,FALSE),"") | E26: =IF(B26<>"",VLOOKUP(B26,valeurs!$A$2:$E$25,2,FALSE),"") | F26: =IF(B26<>"",VLOOKUP(B26,valeurs!$A$2:$E$25,4,FALSE),"") | G26: =IF(B26<>"",C26*VLOOKUP(B26,valeurs!$A$2:$E$25,5,FALSE),"") | H26: =IF(B26<>"",SUM(D26,(E26*C26),(F26*C26),G26),0) -> 0 | I26: =J25 -> 0.65625 | J26: =IF(H26<>"",I26+H26,"") -> 0.65625
A27: groupe 1 (4) | B27: Senior PL | C27: 4 | D27: =IF(B27<>"",VLOOKUP(B27,valeurs!$A$2:$E$25,3,FALSE),"") -> 0.0041666667 | E27: =IF(B27<>"",VLOOKUP(B27,valeurs!$A$2:$E$25,2,FALSE),"") -> 0.00034722222 | F27: =IF(B27<>"",VLOOKUP(B27,valeurs!$A$2:$E$25,4,FALSE),"") -> 0.0027777778 | G27: =IF(B27<>"",C27*VLOOKUP(B27,valeurs!$A$2:$E$25,5,FALSE),"") -> 0.0083333333 | H27: =IF(B27<>"",SUM(D27,(E27*C27),(F27*C27),G27),0) -> 0.025 | I27: =J26 -> 0.65625 | J27: =IF(H27<>"",I27+H27,"") -> 0.68125
A28: Surfaçage | B28: Surfaçage | D28: =IF(B28<>"",VLOOKUP(B28,valeurs!$A$2:$E$25,3,FALSE),"") -> 0.010416667 | E28: =IF(B28<>"",VLOOKUP(B28,valeurs!$A$2:$E$25,2,FALSE),"") -> 0 | F28: =IF(B28<>"",VLOOKUP(B28,valeurs!$A$2:$E$25,4,FALSE),"") -> 0 | G28: =IF(B28<>"",C28*VLOOKUP(B28,valeurs!$A$2:$E$25,5,FALSE),"") -> 0 | H28: =IF(B28<>"",SUM(D28,(E28*C28),(F28*C28),G28),0) -> 0.010416667 | I28: =J27 -> 0.68125 | J28: =IF(H28<>"",I28+H28,"") -> 0.69166667
A29: Junior Couple PL (2) | D29: =IF(B29<>"",VLOOKUP(B29,valeurs!$A$2:$E$25,3,FALSE),"") | E29: =IF(B29<>"",VLOOKUP(B29,valeurs!$A$2:$E$25,2,FALSE),"") | F29: =IF(B29<>"",VLOOKUP(B29,valeurs!$A$2:$E$25,4,FALSE),"") | G29: =IF(B29<>"",C29*VLOOKUP(B29,valeurs!$A$2:$E$25,5,FALSE),"") | H29: =IF(B29<>"",SUM(D29,(E29*C29),(F29*C29),G29),0) -> 0 | I29: =J28 -> 0.69166667 | J29: =IF(H29<>"",I29+H29,"") -> 0.69166667
A30: groupe 1 (2) | B30: Junior PL | C30: 2 | D30: =IF(B30<>"",VLOOKUP(B30,valeurs!$A$2:$E$25,3,FALSE),"") -> 0.0041666667 | E30: =IF(B30<>"",VLOOKUP(B30,valeurs!$A$2:$E$25,2,FALSE),"") -> 0.00034722222 | F30: =IF(B30<>"",VLOOKUP(B30,valeurs!$A$2:$E$25,4,FALSE),"") -> 0.0024305556 | G30: =IF(B30<>"",C30*VLOOKUP(B30,valeurs!$A$2:$E$25,5,FALSE),"") -> 0.0041666667 | H30: =IF(B30<>"",SUM(D30,(E30*C30),(F30*C30),G30),0) -> 0.013888889 | I30: =J29 -> 0.69166667 | J30: =IF(H30<>"",I30+H30,"") -> 0.70555556
A31: Junior Messieurs PL (7) | D31: =IF(B31<>"",VLOOKUP(B31,valeurs!$A$2:$E$25,3,FALSE),"") | E31: =IF(B31<>"",VLOOKUP(B31,valeurs!$A$2:$E$25,2,FALSE),"") | F31: =IF(B31<>"",VLOOKUP(B31,valeurs!$A$2:$E$25,4,FALSE),"") | G31: =IF(B31<>"",C31*VLOOKUP(B31,valeurs!$A$2:$E$25,5,FALSE),"") | H31: =IF(B31<>"",SUM(D31,(E31*C31),(F31*C31),G31),0) -> 0 | I31: =J30 -> 0.70555556 | J31: =IF(H31<>"",I31+H31,"") -> 0.70555556
A32: groupe 1 (3) | B32: Junior PL | C32: 3 | D32: =IF(B32<>"",VLOOKUP(B32,valeurs!$A$2:$E$25,3,FALSE),"") -> 0.0041666667 | E32: =IF(B32<>"",VLOOKUP(B32,valeurs!$A$2:$E$25,2,FALSE),"") -> 0.00034722222 | F32: =IF(B32<>"",VLOOKUP(B32,valeurs!$A$2:$E$25,4,FALSE),"") -> 0.0024305556 | G32: =IF(B32<>"",C32*VLOOKUP(B32,valeurs!$A$2:$E$25,5,FALSE),"") -> 0.00625 | H32: =IF(B32<>"",SUM(D32,(E32*C32),(F32*C32),G32),0) -> 0.01875 | I32: =J31 -> 0.70555556 | J32: =IF(H32<>"",I32+H32,"") -> 0.72430556
A33: groupe 2 (4) | B33: Junior PL | C33: 4 | D33: =IF(B33<>"",VLOOKUP(B33,valeurs!$A$2:$E$25,3,FALSE),"") -> 0.0041666667 | E33: =IF(B33<>"",VLOOKUP(B33,valeurs!$A$2:$E$25,2,FALSE),"") -> 0.00034722222 | F33: =IF(B33<>"",VLOOKUP(B33,valeurs!$A$2:$E$25,4,FALSE),"") -> 0.0024305556 | G33: =IF(B33<>"",C33*VLOOKUP(B33,valeurs!$A$2:$E$25,5,FALSE),"") -> 0.0083333333 | H33: =IF(B33<>"",SUM(D33,(E33*C33),(F33*C33),G33),0) -> 0.023611111 | I33: =J32 -> 0.72430556 | J33: =IF(H33<>"",I33+H33,"") -> 0.74791667
D34: =IF(B34<>"",VLOOKUP(B34,valeurs!$A$2:$E$25,3,FALSE),"") | E34: =IF(B34<>"",VLOOKUP(B34,valeurs!$A$2:$E$25,2,FALSE),"") | F34: =IF(B34<>"",VLOOKUP(B34,valeurs!$A$2:$E$25,4,FALSE),"") | G34: =IF(B34<>"",C34*VLOOKUP(B34,valeurs!$A$2:$E$25,5,FALSE),"") | H34: =IF(B34<>"",SUM(D34,(E34*C34),(F34*C34),G34),0) -> 0 | I34: =J33 -> 0.74791667 | J34: =IF(H34<>"",I34+H34,"") -> 0.74791667
D35: =IF(B35<>"",VLOOKUP(B35,valeurs!$A$2:$E$25,3,FALSE),"") | E35: =IF(B35<>"",VLOOKUP(B35,valeurs!$A$2:$E$25,2,FALSE),"") | F35: =IF(B35<>"",VLOOKUP(B35,valeurs!$A$2:$E$25,4,FALSE),"") | G35: =IF(B35<>"",C35*VLOOKUP(B35,valeurs!$A$2:$E$25,5,FALSE),"") | H35: =IF(B35<>"",SUM(D35,(E35*C35),(F35*C35),G35),0) -> 0 | I35: =J34 -> 0.74791667 | J35: =IF(H35<>"",I35+H35,"") -> 0.74791667
D36: =IF(B36<>"",VLOOKUP(B36,valeurs!$A$2:$E$25,3,FALSE),"") | E36: =IF(B36<>"",VLOOKUP(B36,valeurs!$A$2:$E$25,2,FALSE),"") | F36: =IF(B36<>"",VLOOKUP(B36,valeurs!$A$2:$E$25,4,FALSE),"") | G36: =IF(B36<>"",C36*VLOOKUP(B36,valeurs!$A$2:$E$25,5,FALSE),"") | H36: =IF(B36<>"",SUM(D36,(E36*C36),(F36*C36),G36),0) -> 0 | I36: =J35 -> 0.74791667 | J36: =IF(H36<>"",I36+H36,"") -> 0.74791667
D37: =IF(B37<>"",VLOOKUP(B37,valeurs!$A$2:$E$25,3,FALSE),"") | E37: =IF(B37<>"",VLOOKUP(B37,valeurs!$A$2:$E$25,2,FALSE),"") | F37: =IF(B37<>"",VLOOKUP(B37,valeurs!$A$2:$E$25,4,FALSE),"") | G37: =IF(B37<>"",C37*VLOOKUP(B37,valeurs!$A$2:$E$25,5,FALSE),"") | H37: =IF(B37<>"",SUM(D37,(E37*C37),(F37*C37),G37),0) -> 0 | I37: =J36 -> 0.74791667 | J37: =IF(H37<>"",I37+H37,"") -> 0.74791667
D38: =IF(B38<>"",VLOOKUP(B38,valeurs!$A$2:$E$25,3,FALSE),"") | E38: =IF(B38<>"",VLOOKUP(B38,valeurs!$A$2:$E$25,2,FALSE),"") | F38: =IF(B38<>"",VLOOKUP(B38,valeurs!$A$2:$E$25,4,FALSE),"") | G38: =IF(B38<>"",C38*VLOOKUP(B38,valeurs!$A$2:$E$25,5,FALSE),"") | H38: =IF(B38<>"",SUM(D38,(E38*C38),(F38*C38),G38),0) -> 0 | I38: =J37 -> 0.74791667 | J38: =IF(H38<>"",I38+H38,"") -> 0.74791667
D39: =IF(B39<>"",VLOOKUP(B39,valeurs!$A$2:$E$25,3,FALSE),"") | E39: =IF(B39<>"",VLOOKUP(B39,valeurs!$A$2:$E$25,2,FALSE),"") | F39: =IF(B39<>"",VLOOKUP(B39,valeurs!$A$2:$E$25,4,FALSE),"") | G39: =IF(B39<>"",C39*VLOOKUP(B39,valeurs!$A$2:$E$25,5,FALSE),"") | H39: =IF(B39<>"",SUM(D39,(E39*C39),(F39*C39),G39),0) -> 0 | I39: =J38 -> 0.74791667 | J39: =IF(H39<>"",I39+H39,"") -> 0.74791667
D40: =IF(B40<>"",VLOOKUP(B40,valeurs!$A$2:$E$25,3,FALSE),"") | E40: =IF(B40<>"",VLOOKUP(B40,valeurs!$A$2:$E$25,2,FALSE),"") | F40: =IF(B40<>"",VLOOKUP(B40,valeurs!$A$2:$E$25,4,FALSE),"") | G40: =IF(B40<>"",C40*VLOOKUP(B40,valeurs!$A$2:$E$25,5,FALSE),"") | H40: =IF(B40<>"",SUM(D40,(E40*C40),(F40*C40),G40),0) -> 0 | I40: =J39 -> 0.74791667 | J40: =IF(H40<>"",I40+H40,"") -> 0.74791667
A41: fin de la compétition | D41: =IF(C41<>"",VLOOKUP(B41,valeurs!$A$2:$D$20,2),"") | F41: =IF(C41<>"",VLOOKUP(B41,valeurs!$A$2:$D$20,3),"") | I41: =J40 -> 0.74791667 | J41: =IF(C41<>"",I41+H41,"")
...

Sheet valeurs
A1: Version 1 du 31/08/2026 | B1: Prise en compte nouvelle saison 2026-2027
A2: type de programmes | B2: présentation | C2: Echauffement | D2: temps de programme | E2: temps de jugement
A3: Senior PC | B3: 0.00034722222 | C3: 0.0041666667 | D3: 0.0019675926 | E3: 0.0017361111
A4: Senior PL | B4: 0.00034722222 | C4: 0.0041666667 | D4: 0.0027777778 | E4: 0.0020833333
A5: Junior PC | B5: 0.00034722222 | C5: 0.0041666667 | D5: 0.0019675926 | E5: 0.0017361111
A6: Junior PL | B6: 0.00034722222 | C6: 0.0041666667 | D6: 0.0024305556 | E6: 0.0020833333
A7: Advanced novice PC | B7: 0.00034722222 | C7: 0.0027777778 | D7: 0.0017361111 | E7: 0.0017361111
A8: Advanced novice PL | B8: 0.00034722222 | C8: 0.0034722222 | D8: 0.0020833333 | E8: 0.0017361111
A9: Intermediate novice | B9: 0.00034722222 | C9: 0.0027777778 | D9: 0.0017361111 | E9: 0.0013888889
A10: Basic novice | B10: 0.00034722222 | C10: 0.0027777778 | D10: 0.0017361111 | E10: 0.0013888889
A11: R3 A | B11: 0.00017361111 | C11: 0.0027777778 | D11: 0.0017361111 | E11: 0.0013888889
A12: R3 B | B12: 0.00017361111 | C12: 0.0027777778 | D12: 0.0013888889 | E12: 0.0012152778
A13: Surfaçage | C13: 0.010416667
A14: Pause 30mn | C14: 0.020833333
A15: Pause 1h | C15: 0.041666667
A16: Pause 1h30 | C16: 0.0625
A17: Pause 2h | C17: 0.083333333
A18: Adulte or | B18: 0.00034722222 | C18: 0.0041666667 | D18: 0.0019675926 | E18: 0.0017361111
A19: Adulte master | B19: 0.00034722222 | C19: 0.0041666667 | D19: 0.0020833333 | E19: 0.0017361111
A20: Adulte argent | B20: 0.00034722222 | C20: 0.0034722222 | D20: 0.0013888889 | E20: 0.0013888889
A21: Adulte bronze | B21: 0.00034722222 | C21: 0.0034722222 | D21: 0.0011574074 | E21: 0.0013888889
A22: Jeune Adulte or | B22: 0.00034722222 | C22: 0.0041666667 | D22: 0.0019675926 | E22: 0.0017361111
A23: Jeune Adulte master | B23: 0.00034722222 | C23: 0.0041666667 | D23: 0.0020833333 | E23: 0.0017361111
A24: Jeune Adulte argent | B24: 0.00034722222 | C24: 0.0034722222 | D24: 0.0013888889 | E24: 0.0013888889
A25: Jeune Adulte bronze | B25: 0.00034722222 | C25: 0.0034722222 | D25: 0.0011574074 | E25: 0.0013888889
